BEGIN:VCALENDAR
VERSION:2.0
PRODID:-//MedRVA Healthcare - ECPv6.15.20//NONSGML v1.0//EN
CALSCALE:GREGORIAN
METHOD:PUBLISH
X-WR-CALNAME:MedRVA Healthcare
X-ORIGINAL-URL:https://www.medrva.com
X-WR-CALDESC:Events for MedRVA Healthcare
REFRESH-INTERVAL;VALUE=DURATION:PT1H
X-Robots-Tag:noindex
X-PUBLISHED-TTL:PT1H
BEGIN:VTIMEZONE
TZID:America/New_York
BEGIN:DAYLIGHT
TZOFFSETFROM:-0500
TZOFFSETTO:-0400
TZNAME:EDT
DTSTART:20240310T070000
END:DAYLIGHT
BEGIN:STANDARD
TZOFFSETFROM:-0400
TZOFFSETTO:-0500
TZNAME:EST
DTSTART:20241103T060000
END:STANDARD
BEGIN:DAYLIGHT
TZOFFSETFROM:-0500
TZOFFSETTO:-0400
TZNAME:EDT
DTSTART:20250309T070000
END:DAYLIGHT
BEGIN:STANDARD
TZOFFSETFROM:-0400
TZOFFSETTO:-0500
TZNAME:EST
DTSTART:20251102T060000
END:STANDARD
BEGIN:DAYLIGHT
TZOFFSETFROM:-0500
TZOFFSETTO:-0400
TZNAME:EDT
DTSTART:20260308T070000
END:DAYLIGHT
BEGIN:STANDARD
TZOFFSETFROM:-0400
TZOFFSETTO:-0500
TZNAME:EST
DTSTART:20261101T060000
END:STANDARD
END:VTIMEZONE
BEGIN:VEVENT
DTSTART;TZID=America/New_York:20250823T100000
DTEND;TZID=America/New_York:20250823T140000
DTSTAMP:20260421T075128
CREATED:20250716T185534Z
LAST-MODIFIED:20250716T190342Z
UID:7765-1755943200-1755957600@www.medrva.com
SUMMARY:FREE Vision Screening @ St. Peter Baptist Church Health and Wellness Fair
DESCRIPTION:A health and wellness fair to be held on August 23\, 2025 from 10:00 AM until 2:00 PM.  The intended audience includes our congregation\, surrounding communities\, and anyone who wants to attend. Attendees will represent a variety of ages including children/youth.
URL:https://www.medrva.com/event/free-vision-screening-st-peter-baptist-church-health-and-wellness-fair
LOCATION:St. Peter Baptist Church\, 2040 Mountain Road\, Glen Allen\, Virginia
CATEGORIES:Community Event,Vision Screening
ATTACH;FMTTYPE=image/jpeg:https://cdn.medrva.com/uploads/2025/07/Health-and-Wellness-Fair.jpg
ORGANIZER;CN="MedRVA Pre-K Vision Program":MAILTO:baochau.le@medrva.com
END:VEVENT
END:VCALENDAR