BEGIN:VCALENDAR
VERSION:2.0
PRODID:-//MedRVA Healthcare - ECPv6.15.20//NONSGML v1.0//EN
CALSCALE:GREGORIAN
METHOD:PUBLISH
X-ORIGINAL-URL:https://www.medrva.com
X-WR-CALDESC:Events for MedRVA Healthcare
REFRESH-INTERVAL;VALUE=DURATION:PT1H
X-Robots-Tag:noindex
X-PUBLISHED-TTL:PT1H
BEGIN:VTIMEZONE
TZID:America/New_York
BEGIN:DAYLIGHT
TZOFFSETFROM:-0500
TZOFFSETTO:-0400
TZNAME:EDT
DTSTART:20240310T070000
END:DAYLIGHT
BEGIN:STANDARD
TZOFFSETFROM:-0400
TZOFFSETTO:-0500
TZNAME:EST
DTSTART:20241103T060000
END:STANDARD
BEGIN:DAYLIGHT
TZOFFSETFROM:-0500
TZOFFSETTO:-0400
TZNAME:EDT
DTSTART:20250309T070000
END:DAYLIGHT
BEGIN:STANDARD
TZOFFSETFROM:-0400
TZOFFSETTO:-0500
TZNAME:EST
DTSTART:20251102T060000
END:STANDARD
BEGIN:DAYLIGHT
TZOFFSETFROM:-0500
TZOFFSETTO:-0400
TZNAME:EDT
DTSTART:20260308T070000
END:DAYLIGHT
BEGIN:STANDARD
TZOFFSETFROM:-0400
TZOFFSETTO:-0500
TZNAME:EST
DTSTART:20261101T060000
END:STANDARD
END:VTIMEZONE
BEGIN:VEVENT
DTSTART;TZID=America/New_York:20250812T170000
DTEND;TZID=America/New_York:20250812T200000
DTSTAMP:20260421T075435
CREATED:20250716T183245Z
LAST-MODIFIED:20250716T183245Z
UID:7752-1755018000-1755028800@www.medrva.com
SUMMARY:FREE Vision Screenings @ Crossover Healthcare Ministry Back to School Vaccine Clinic
DESCRIPTION:CrossOver will be hosting Back to School Vaccine Clinics on Tuesday\, August 12 and Thursday\, August 14. Vaccines are free for children (pre-K – 12th grade) who have Medicaid or do not have health insurance.\n\n\n\n APPOINTMENT REQUIRED: Call 804-655-2794 to schedule!\n\n\n Share with a friend! Children do not need to be a current patient at CrossOver in order to register for this event!\n\n\n>>Patients must be accompanied by a parent/guardian.\n>>Patients should bring a Photo ID (Patient\, Parent\, or Guardian)\, a current vaccine record\, and a School Notice of Missing Vaccine (if available).\n\n\n\n\nCrossOver ofrecerá clínicas de vacunación para el regreso a clases el martes 12 y el jueves 14 de agosto. Las vacunas son gratuitas para niños (pre-K a 12.º grado) que tengan Medicaid o no tengan seguro médico.\n\n\n ¡SE REQUIERE CITA! Llama al 804-655-2794 para programar la cita de su hijo(a)!\n\n\n ¡Comparte con un amigo! No es necesario que los niños sean pacientes actuales de CrossOver para inscribirse en este evento.\n\n\n>>Los pacientes deben estar acompañados por un padre/tutor.\n>>Los pacientes deben traer una identificación con foto (paciente\, padre/tutor)\, un registro de vacunas y un Aviso Escolar de Vacuna Faltante (si está disponible).
URL:https://www.medrva.com/event/free-vision-screenings-crossover-healthcare-ministry-back-to-school-vaccine-clinic
LOCATION:CrossOver Healthcare Ministry\, 8600 Quioccasin Road\, Richmond\, 23229\, United States
CATEGORIES:Vision Screening
ATTACH;FMTTYPE=image/jpeg:https://cdn.medrva.com/uploads/2025/07/517936727_1324097883054847_1622222350942953462_n.jpg
ORGANIZER;CN="MedRVA Pre-K Vision Program":MAILTO:baochau.le@medrva.com
END:VEVENT
END:VCALENDAR