BEGIN:VCALENDAR
VERSION:2.0
PRODID:-//MedRVA Healthcare - ECPv6.15.20//NONSGML v1.0//EN
CALSCALE:GREGORIAN
METHOD:PUBLISH
X-ORIGINAL-URL:https://www.medrva.com
X-WR-CALDESC:Events for MedRVA Healthcare
REFRESH-INTERVAL;VALUE=DURATION:PT1H
X-Robots-Tag:noindex
X-PUBLISHED-TTL:PT1H
BEGIN:VTIMEZONE
TZID:America/New_York
BEGIN:DAYLIGHT
TZOFFSETFROM:-0500
TZOFFSETTO:-0400
TZNAME:EDT
DTSTART:20240310T070000
END:DAYLIGHT
BEGIN:STANDARD
TZOFFSETFROM:-0400
TZOFFSETTO:-0500
TZNAME:EST
DTSTART:20241103T060000
END:STANDARD
BEGIN:DAYLIGHT
TZOFFSETFROM:-0500
TZOFFSETTO:-0400
TZNAME:EDT
DTSTART:20250309T070000
END:DAYLIGHT
BEGIN:STANDARD
TZOFFSETFROM:-0400
TZOFFSETTO:-0500
TZNAME:EST
DTSTART:20251102T060000
END:STANDARD
BEGIN:DAYLIGHT
TZOFFSETFROM:-0500
TZOFFSETTO:-0400
TZNAME:EDT
DTSTART:20260308T070000
END:DAYLIGHT
BEGIN:STANDARD
TZOFFSETFROM:-0400
TZOFFSETTO:-0500
TZNAME:EST
DTSTART:20261101T060000
END:STANDARD
END:VTIMEZONE
BEGIN:VEVENT
DTSTART;TZID=America/New_York:20250806T180000
DTEND;TZID=America/New_York:20250806T210000
DTSTAMP:20260421T075307
CREATED:20250716T183935Z
LAST-MODIFIED:20250716T183935Z
UID:7758-1754503200-1754514000@www.medrva.com
SUMMARY:FREE Vision Screening at Let Your Light Shine Block Party
DESCRIPTION:Come enjoy a party with us! \nThere will be activities for all ages that include main stage live music\, kids music and skits\, food trucks\, sports\, and dozens of tents with their own unique vibe. Kids can enjoy free Kona Ice! \nBring your folding chair\, an umbrella to beat the sun\, and let’s be a village having a party together! \nWe want to see a block party movement that brings people together in neighborhoods\, grow across Ashland and Hanover County!
URL:https://www.medrva.com/event/free-vision-screening-at-let-your-light-shine-block-party
LOCATION:First Baptist Church Ashland\, 800 Thompson Street\, Ashland\, Virginia
CATEGORIES:Community Event,Vision Screening
ATTACH;FMTTYPE=image/png:https://cdn.medrva.com/uploads/2025/07/IMG_6355-1.png
END:VEVENT
END:VCALENDAR