BEGIN:VCALENDAR
VERSION:2.0
PRODID:-//MedRVA Healthcare - ECPv6.15.20//NONSGML v1.0//EN
CALSCALE:GREGORIAN
METHOD:PUBLISH
X-WR-CALNAME:MedRVA Healthcare
X-ORIGINAL-URL:https://www.medrva.com
X-WR-CALDESC:Events for MedRVA Healthcare
REFRESH-INTERVAL;VALUE=DURATION:PT1H
X-Robots-Tag:noindex
X-PUBLISHED-TTL:PT1H
BEGIN:VTIMEZONE
TZID:America/New_York
BEGIN:DAYLIGHT
TZOFFSETFROM:-0500
TZOFFSETTO:-0400
TZNAME:EDT
DTSTART:20240310T070000
END:DAYLIGHT
BEGIN:STANDARD
TZOFFSETFROM:-0400
TZOFFSETTO:-0500
TZNAME:EST
DTSTART:20241103T060000
END:STANDARD
BEGIN:DAYLIGHT
TZOFFSETFROM:-0500
TZOFFSETTO:-0400
TZNAME:EDT
DTSTART:20250309T070000
END:DAYLIGHT
BEGIN:STANDARD
TZOFFSETFROM:-0400
TZOFFSETTO:-0500
TZNAME:EST
DTSTART:20251102T060000
END:STANDARD
BEGIN:DAYLIGHT
TZOFFSETFROM:-0500
TZOFFSETTO:-0400
TZNAME:EDT
DTSTART:20260308T070000
END:DAYLIGHT
BEGIN:STANDARD
TZOFFSETFROM:-0400
TZOFFSETTO:-0500
TZNAME:EST
DTSTART:20261101T060000
END:STANDARD
END:VTIMEZONE
BEGIN:VEVENT
DTSTART;TZID=America/New_York:20250517T100000
DTEND;TZID=America/New_York:20250517T130000
DTSTAMP:20260421T122354
CREATED:20250430T200502Z
LAST-MODIFIED:20250430T200502Z
UID:7322-1747476000-1747486800@www.medrva.com
SUMMARY:FREE Vision Screening @ Petersburg High School Toddler Fair
DESCRIPTION:Toddler Fair Registration For Families and Resource Vendors\n\n\nJoin us for a Toddler Fair at Petersburg High School!\n– Pre-K Registration for Westview Early Childhood Education Center & Kindergarten Registration for Petersburg City Public Schools\n– Community Resources\, including Child Find and Developmental Screenings\n– A petting zoo\, raffle prizes\, and more!\n\n*For families with children birth to 5 years old living in Petersburg and surrounding areas*\n\nSaturday\, May 17th  \n10 AM – 1 PM\nPetersburg High School\n3101 Johnson Rd. \nPetersburg\, VA 23805
URL:https://www.medrva.com/event/free-vision-screening-petersburg-high-school-toddler-fair
LOCATION:Petersburg High School\, 3101 Johnson Road\, Petersburg\, VA\, 23805\, United States
CATEGORIES:Vision Screening
ATTACH;FMTTYPE=image/jpeg:https://cdn.medrva.com/uploads/2025/03/web.jpg
ORGANIZER;CN="MedRVA Pre-K Vision Program":MAILTO:baochau.le@medrva.com
END:VEVENT
END:VCALENDAR