BEGIN:VCALENDAR
VERSION:2.0
PRODID:-//MedRVA Healthcare - ECPv6.15.20//NONSGML v1.0//EN
CALSCALE:GREGORIAN
METHOD:PUBLISH
X-ORIGINAL-URL:https://www.medrva.com
X-WR-CALDESC:Events for MedRVA Healthcare
REFRESH-INTERVAL;VALUE=DURATION:PT1H
X-Robots-Tag:noindex
X-PUBLISHED-TTL:PT1H
BEGIN:VTIMEZONE
TZID:America/New_York
BEGIN:DAYLIGHT
TZOFFSETFROM:-0500
TZOFFSETTO:-0400
TZNAME:EDT
DTSTART:20240310T070000
END:DAYLIGHT
BEGIN:STANDARD
TZOFFSETFROM:-0400
TZOFFSETTO:-0500
TZNAME:EST
DTSTART:20241103T060000
END:STANDARD
BEGIN:DAYLIGHT
TZOFFSETFROM:-0500
TZOFFSETTO:-0400
TZNAME:EDT
DTSTART:20250309T070000
END:DAYLIGHT
BEGIN:STANDARD
TZOFFSETFROM:-0400
TZOFFSETTO:-0500
TZNAME:EST
DTSTART:20251102T060000
END:STANDARD
BEGIN:DAYLIGHT
TZOFFSETFROM:-0500
TZOFFSETTO:-0400
TZNAME:EDT
DTSTART:20260308T070000
END:DAYLIGHT
BEGIN:STANDARD
TZOFFSETFROM:-0400
TZOFFSETTO:-0500
TZNAME:EST
DTSTART:20261101T060000
END:STANDARD
END:VTIMEZONE
BEGIN:VEVENT
DTSTART;TZID=America/New_York:20250701T120000
DTEND;TZID=America/New_York:20250701T140000
DTSTAMP:20260421T075256
CREATED:20250506T162915Z
LAST-MODIFIED:20250506T162915Z
UID:7359-1751371200-1751378400@www.medrva.com
SUMMARY:FREE Vision Screening @ Oak Avenue Complex Henrico County Public Schools Family and Community Engagement Summer Tour (FACE Summer Tour)
DESCRIPTION:
URL:https://www.medrva.com/event/free-vision-screening-oak-avenue-complex-henrico-county-public-schools-family-and-community-engagement-summer-tour-face-summer-tour
LOCATION:Oak Avenue Complex\, 15 S Oak Ave\, Highland Springs\, Virginia\, 23075
CATEGORIES:Vision Screening
ATTACH;FMTTYPE=image/png:https://cdn.medrva.com/uploads/2025/03/01-Pre-K-Vision-Screening-Library-3.png
ORGANIZER;CN="MedRVA Pre-K Vision Program":MAILTO:baochau.le@medrva.com
END:VEVENT
BEGIN:VEVENT
DTSTART;TZID=America/New_York:20250718T160000
DTEND;TZID=America/New_York:20250718T190000
DTSTAMP:20260421T075256
CREATED:20250522T171533Z
LAST-MODIFIED:20250613T194534Z
UID:7413-1752854400-1752865200@www.medrva.com
SUMMARY:FREE Vision Screening @ Safe Sleep & Early Intervention Resource Fair
DESCRIPTION:“The purpose of this event is to spread awareness about safe sleep practices\, while also providing families with the resources and tools they need to properly care for their loved ones. In collaboration with Bon Secour\, Urban Baby Beginnings\, Aetna Health and Hopewell Department of Social Services. We are planning a safe sleep event. We are in hopes this event brings together parents\, caregivers\, healthcare professionals\, community members and community resources to raise awareness about the critical importance of creating and maintaining a secure sleep environment for infants and children.”
URL:https://www.medrva.com/event/free-vision-screening-safe-sleep-early-intervention-resource-fair
LOCATION:Hopewell Community Center\, 100 West City Point Road\, Hopewell\, VA
CATEGORIES:Community Event,Vision Screening
ATTACH;FMTTYPE=image/jpeg:https://cdn.medrva.com/uploads/2025/05/IMG_3085.jpeg
ORGANIZER;CN="MedRVA Pre-K Vision Program":MAILTO:baochau.le@medrva.com
END:VEVENT
BEGIN:VEVENT
DTSTART;TZID=America/New_York:20250722T120000
DTEND;TZID=America/New_York:20250722T140000
DTSTAMP:20260421T075256
CREATED:20250506T163021Z
LAST-MODIFIED:20250506T163130Z
UID:7362-1753185600-1753192800@www.medrva.com
SUMMARY:FREE Vision Screening @ Landmark at Patterson Henrico County Public Schools Family and Community Engagement Summer Tour (FACE Summer Tour)
DESCRIPTION:
URL:https://www.medrva.com/event/free-vision-screening-landmark-at-patterson-henrico-county-public-schools-family-and-community-engagement-summer-tour-face-summer-tour
LOCATION:Landmark at Patterson\, 9101 Patterson Avenue\, #14\, Richmond\, Virginia\, 23229
CATEGORIES:Vision Screening
ATTACH;FMTTYPE=image/png:https://cdn.medrva.com/uploads/2025/03/01-Pre-K-Vision-Screening-Library-3.png
ORGANIZER;CN="MedRVA Pre-K Vision Program":MAILTO:baochau.le@medrva.com
END:VEVENT
BEGIN:VEVENT
DTSTART;TZID=America/New_York:20250726T130000
DTEND;TZID=America/New_York:20250726T160000
DTSTAMP:20260421T075256
CREATED:20250609T171828Z
LAST-MODIFIED:20250612T135049Z
UID:7618-1753534800-1753545600@www.medrva.com
SUMMARY:FREE Vision Screening @ Petersburg Back to School Fair
DESCRIPTION:
URL:https://www.medrva.com/event/free-vision-screening-petersburg-back-to-school-fair
LOCATION:Club 17\, 118 1/2 Mars St Petersburg\, VA 23803
CATEGORIES:Vision Screening
ATTACH;FMTTYPE=image/jpeg:https://cdn.medrva.com/uploads/2025/03/thumbnail_IMG_2048-1-2.jpg
ORGANIZER;CN="MedRVA Pre-K Vision Program":MAILTO:baochau.le@medrva.com
END:VEVENT
END:VCALENDAR