BEGIN:VCALENDAR
VERSION:2.0
PRODID:-//MedRVA Healthcare - ECPv6.15.20//NONSGML v1.0//EN
CALSCALE:GREGORIAN
METHOD:PUBLISH
X-ORIGINAL-URL:https://www.medrva.com
X-WR-CALDESC:Events for MedRVA Healthcare
REFRESH-INTERVAL;VALUE=DURATION:PT1H
X-Robots-Tag:noindex
X-PUBLISHED-TTL:PT1H
BEGIN:VTIMEZONE
TZID:America/New_York
BEGIN:DAYLIGHT
TZOFFSETFROM:-0500
TZOFFSETTO:-0400
TZNAME:EDT
DTSTART:20240310T070000
END:DAYLIGHT
BEGIN:STANDARD
TZOFFSETFROM:-0400
TZOFFSETTO:-0500
TZNAME:EST
DTSTART:20241103T060000
END:STANDARD
BEGIN:DAYLIGHT
TZOFFSETFROM:-0500
TZOFFSETTO:-0400
TZNAME:EDT
DTSTART:20250309T070000
END:DAYLIGHT
BEGIN:STANDARD
TZOFFSETFROM:-0400
TZOFFSETTO:-0500
TZNAME:EST
DTSTART:20251102T060000
END:STANDARD
BEGIN:DAYLIGHT
TZOFFSETFROM:-0500
TZOFFSETTO:-0400
TZNAME:EDT
DTSTART:20260308T070000
END:DAYLIGHT
BEGIN:STANDARD
TZOFFSETFROM:-0400
TZOFFSETTO:-0500
TZNAME:EST
DTSTART:20261101T060000
END:STANDARD
END:VTIMEZONE
BEGIN:VEVENT
DTSTART;TZID=America/New_York:20250617T120000
DTEND;TZID=America/New_York:20250617T140000
DTSTAMP:20260421T092454
CREATED:20250506T162326Z
LAST-MODIFIED:20250506T162326Z
UID:7350-1750161600-1750168800@www.medrva.com
SUMMARY:FREE Vision Screening @ Colonial Apartments Henrico County Public Schools Family and Community Engagement Summer Tour (FACE Summer Tour)
DESCRIPTION:
URL:https://www.medrva.com/event/free-vision-screening-colonial-apartments-henrico-county-public-schools-family-and-community-engagement-summer-tour-face-summer-tour
LOCATION:Colonial Apartments\, 5501 Pony Farm Drive\, Richmond\, Virginia\, 23227
CATEGORIES:Vision Screening
ATTACH;FMTTYPE=image/png:https://cdn.medrva.com/uploads/2025/03/01-Pre-K-Vision-Screening-Library-3.png
ORGANIZER;CN="MedRVA Pre-K Vision Program":MAILTO:baochau.le@medrva.com
END:VEVENT
BEGIN:VEVENT
DTSTART;TZID=America/New_York:20250619T100000
DTEND;TZID=America/New_York:20250619T113000
DTSTAMP:20260421T092454
CREATED:20250521T135753Z
LAST-MODIFIED:20250609T145758Z
UID:7402-1750327200-1750332600@www.medrva.com
SUMMARY:FREE Vision Screening @ Storytime in the Garden at Lewis Ginter Botanical Garden
DESCRIPTION:
URL:https://www.medrva.com/event/free-vision-screening-storytime-in-the-garden-at-lewis-ginter-botanical-garden
LOCATION:Lewis Ginter Botanical Garden\, 1800 Lakeside Ave
CATEGORIES:Vision Screening
ATTACH;FMTTYPE=image/jpeg:https://cdn.medrva.com/uploads/2025/05/IMG_3909-3-scaled.jpg
END:VEVENT
BEGIN:VEVENT
DTSTART;TZID=America/New_York:20250624T120000
DTEND;TZID=America/New_York:20250624T140000
DTSTAMP:20260421T092454
CREATED:20250506T162547Z
LAST-MODIFIED:20250506T162547Z
UID:7353-1750766400-1750773600@www.medrva.com
SUMMARY:FREE Vision Screening @ Hope Village Apartments Henrico County Public Schools Family and Community Engagement Summer Tour (FACE Summer Tour)
DESCRIPTION:
URL:https://www.medrva.com/event/free-vision-screening-hope-village-apartments-henrico-county-public-schools-family-and-community-engagement-summer-tour-face-summer-tour
LOCATION:Hope Village Apartments\, 1605 Hope Road\, Glen Allen\, Virginia\, 23060
CATEGORIES:Vision Screening
ATTACH;FMTTYPE=image/png:https://cdn.medrva.com/uploads/2025/03/01-Pre-K-Vision-Screening-Library-3.png
ORGANIZER;CN="MedRVA Pre-K Vision Program":MAILTO:baochau.le@medrva.com
END:VEVENT
BEGIN:VEVENT
DTSTART;TZID=America/New_York:20250626T120000
DTEND;TZID=America/New_York:20250626T140000
DTSTAMP:20260421T092454
CREATED:20250506T162723Z
LAST-MODIFIED:20250506T162723Z
UID:7356-1750939200-1750946400@www.medrva.com
SUMMARY:FREE Vision Screening @ Springfield Park Apartments Henrico County Public Schools Family and Community Engagement Summer Tour (FACE Summer Tour)
DESCRIPTION:
URL:https://www.medrva.com/event/free-vision-screening-springfield-park-apartments-henrico-county-public-schools-family-and-community-engagement-summer-tour-face-summer-tour
LOCATION:Springfield Park Apartments\, 9500 Brightway Court\, Richmond\, Virginia\, 23294
CATEGORIES:Vision Screening
ATTACH;FMTTYPE=image/png:https://cdn.medrva.com/uploads/2025/03/01-Pre-K-Vision-Screening-Library-3.png
ORGANIZER;CN="MedRVA Pre-K Vision Program":MAILTO:baochau.le@medrva.com
END:VEVENT
END:VCALENDAR