BEGIN:VCALENDAR
VERSION:2.0
PRODID:-//MedRVA Healthcare - ECPv6.15.20//NONSGML v1.0//EN
CALSCALE:GREGORIAN
METHOD:PUBLISH
X-ORIGINAL-URL:https://www.medrva.com
X-WR-CALDESC:Events for MedRVA Healthcare
REFRESH-INTERVAL;VALUE=DURATION:PT1H
X-Robots-Tag:noindex
X-PUBLISHED-TTL:PT1H
BEGIN:VTIMEZONE
TZID:America/New_York
BEGIN:DAYLIGHT
TZOFFSETFROM:-0500
TZOFFSETTO:-0400
TZNAME:EDT
DTSTART:20240310T070000
END:DAYLIGHT
BEGIN:STANDARD
TZOFFSETFROM:-0400
TZOFFSETTO:-0500
TZNAME:EST
DTSTART:20241103T060000
END:STANDARD
BEGIN:DAYLIGHT
TZOFFSETFROM:-0500
TZOFFSETTO:-0400
TZNAME:EDT
DTSTART:20250309T070000
END:DAYLIGHT
BEGIN:STANDARD
TZOFFSETFROM:-0400
TZOFFSETTO:-0500
TZNAME:EST
DTSTART:20251102T060000
END:STANDARD
BEGIN:DAYLIGHT
TZOFFSETFROM:-0500
TZOFFSETTO:-0400
TZNAME:EDT
DTSTART:20260308T070000
END:DAYLIGHT
BEGIN:STANDARD
TZOFFSETFROM:-0400
TZOFFSETTO:-0500
TZNAME:EST
DTSTART:20261101T060000
END:STANDARD
END:VTIMEZONE
BEGIN:VEVENT
DTSTART;TZID=America/New_York:20250503T100000
DTEND;TZID=America/New_York:20250503T120000
DTSTAMP:20260421T105404
CREATED:20250414T203356Z
LAST-MODIFIED:20250414T203404Z
UID:7275-1746266400-1746273600@www.medrva.com
SUMMARY:FREE Vision Screening @ The International Ministry of Ashland
DESCRIPTION:
URL:https://www.medrva.com/event/free-vision-screening-the-international-ministry-of-ashland
LOCATION:The International Ministry of Ashland\, 800 Thompson Street\, Ashland\, Virginia\, 23005
CATEGORIES:Vision Screening
ATTACH;FMTTYPE=image/png:https://cdn.medrva.com/uploads/2025/03/01-Pre-K-Vision-Screening-Library-3.png
ORGANIZER;CN="MedRVA Pre-K Vision Program":MAILTO:baochau.le@medrva.com
END:VEVENT
BEGIN:VEVENT
DTSTART;TZID=America/New_York:20250510T100000
DTEND;TZID=America/New_York:20250510T120000
DTSTAMP:20260421T105404
CREATED:20250414T203635Z
LAST-MODIFIED:20250414T203635Z
UID:7279-1746871200-1746878400@www.medrva.com
SUMMARY:FREE Vision Screening – Children’s Museum of Richmond Chesterfield Kindergarten Readiness Event
DESCRIPTION:
URL:https://www.medrva.com/event/free-vision-screening-childrens-museum-of-richmond-chesterfield-kindergarten-readiness-event
LOCATION:Children’s Museum of Richmond-Chesterfield\, 6629 Lake Harbour Dr\, Midlothian\, Virginia\, 23112
CATEGORIES:Vision Screening
ATTACH;FMTTYPE=image/png:https://cdn.medrva.com/uploads/2025/03/01-Pre-K-Vision-Screening-Library-3.png
ORGANIZER;CN="MedRVA Pre-K Vision Program":MAILTO:baochau.le@medrva.com
END:VEVENT
BEGIN:VEVENT
DTSTART;TZID=America/New_York:20250517T100000
DTEND;TZID=America/New_York:20250517T130000
DTSTAMP:20260421T105404
CREATED:20250430T200502Z
LAST-MODIFIED:20250430T200502Z
UID:7322-1747476000-1747486800@www.medrva.com
SUMMARY:FREE Vision Screening @ Petersburg High School Toddler Fair
DESCRIPTION:Toddler Fair Registration For Families and Resource Vendors\n\n\nJoin us for a Toddler Fair at Petersburg High School!\n– Pre-K Registration for Westview Early Childhood Education Center & Kindergarten Registration for Petersburg City Public Schools\n– Community Resources\, including Child Find and Developmental Screenings\n– A petting zoo\, raffle prizes\, and more!\n\n*For families with children birth to 5 years old living in Petersburg and surrounding areas*\n\nSaturday\, May 17th  \n10 AM – 1 PM\nPetersburg High School\n3101 Johnson Rd. \nPetersburg\, VA 23805
URL:https://www.medrva.com/event/free-vision-screening-petersburg-high-school-toddler-fair
LOCATION:Petersburg High School\, 3101 Johnson Road\, Petersburg\, VA\, 23805\, United States
CATEGORIES:Vision Screening
ATTACH;FMTTYPE=image/jpeg:https://cdn.medrva.com/uploads/2025/03/web.jpg
ORGANIZER;CN="MedRVA Pre-K Vision Program":MAILTO:baochau.le@medrva.com
END:VEVENT
BEGIN:VEVENT
DTSTART;TZID=America/New_York:20250518T130000
DTEND;TZID=America/New_York:20250518T150000
DTSTAMP:20260421T105404
CREATED:20250306T193857Z
LAST-MODIFIED:20250306T193921Z
UID:6839-1747573200-1747580400@www.medrva.com
SUMMARY:FREE Vision Screening @ Richmond Flying Squirrel Tails Kids Club Game
DESCRIPTION:
URL:https://www.medrva.com/event/free-vision-screening-richmond-flying-squirrel-tails-kids-club
LOCATION:The Diamond\, 3001 N Arthur Ashe Blvd\, Richmond\, Virginia\, 23220
CATEGORIES:Vision Screening
ATTACH;FMTTYPE=image/png:https://cdn.medrva.com/uploads/2025/03/01-Pre-K-Vision-Screening-Library-4.png
ORGANIZER;CN="MedRVA Pre-K Vision Program":MAILTO:baochau.le@medrva.com
END:VEVENT
END:VCALENDAR