BEGIN:VCALENDAR
VERSION:2.0
PRODID:-//MedRVA Healthcare - ECPv6.15.20//NONSGML v1.0//EN
CALSCALE:GREGORIAN
METHOD:PUBLISH
X-WR-CALNAME:MedRVA Healthcare
X-ORIGINAL-URL:https://www.medrva.com
X-WR-CALDESC:Events for MedRVA Healthcare
REFRESH-INTERVAL;VALUE=DURATION:PT1H
X-Robots-Tag:noindex
X-PUBLISHED-TTL:PT1H
BEGIN:VTIMEZONE
TZID:America/New_York
BEGIN:DAYLIGHT
TZOFFSETFROM:-0500
TZOFFSETTO:-0400
TZNAME:EDT
DTSTART:20240310T070000
END:DAYLIGHT
BEGIN:STANDARD
TZOFFSETFROM:-0400
TZOFFSETTO:-0500
TZNAME:EST
DTSTART:20241103T060000
END:STANDARD
BEGIN:DAYLIGHT
TZOFFSETFROM:-0500
TZOFFSETTO:-0400
TZNAME:EDT
DTSTART:20250309T070000
END:DAYLIGHT
BEGIN:STANDARD
TZOFFSETFROM:-0400
TZOFFSETTO:-0500
TZNAME:EST
DTSTART:20251102T060000
END:STANDARD
BEGIN:DAYLIGHT
TZOFFSETFROM:-0500
TZOFFSETTO:-0400
TZNAME:EDT
DTSTART:20260308T070000
END:DAYLIGHT
BEGIN:STANDARD
TZOFFSETFROM:-0400
TZOFFSETTO:-0500
TZNAME:EST
DTSTART:20261101T060000
END:STANDARD
END:VTIMEZONE
BEGIN:VEVENT
DTSTART;TZID=America/New_York:20250405T100000
DTEND;TZID=America/New_York:20250405T140000
DTSTAMP:20260421T121940
CREATED:20250306T193014Z
LAST-MODIFIED:20250306T193128Z
UID:6828-1743847200-1743861600@www.medrva.com
SUMMARY:FREE Vision Screening @ Diversity Thrift Community Health Fair
DESCRIPTION:
URL:https://www.medrva.com/event/free-vision-screening-diversity-thrift-health-fair
LOCATION:Diversity Thrift\, 1407 Sherwood Ave\, Richmond\, Virginia\, 23220
CATEGORIES:Vision Screening
ATTACH;FMTTYPE=image/jpeg:https://cdn.medrva.com/uploads/2025/03/diversity-thrift-620x465-1.jpg
ORGANIZER;CN="MedRVA Pre-K Vision Program":MAILTO:baochau.le@medrva.com
END:VEVENT
BEGIN:VEVENT
DTSTART;TZID=America/New_York:20250412T090000
DTEND;TZID=America/New_York:20250412T130000
DTSTAMP:20260421T121940
CREATED:20250306T195425Z
LAST-MODIFIED:20250306T200005Z
UID:6858-1744448400-1744462800@www.medrva.com
SUMMARY:Vision Screening @ Children’s Museum of Richmond Kindergarten Readiness Event
DESCRIPTION:*admission to museum required
URL:https://www.medrva.com/event/vision-screening-childrens-museum-of-richmond-kindergarten-readiness-event
LOCATION:The Children’s Museum of Richmond\, 2401 W Leigh St\, Richmond\, Virginia\, 23220
CATEGORIES:Vision Screening
ATTACH;FMTTYPE=image/jpeg:https://cdn.medrva.com/uploads/2025/03/36051.jpg
END:VEVENT
BEGIN:VEVENT
DTSTART;TZID=America/New_York:20250415T150000
DTEND;TZID=America/New_York:20250415T180000
DTSTAMP:20260421T121940
CREATED:20250305T194521Z
LAST-MODIFIED:20250305T210846Z
UID:6790-1744729200-1744740000@www.medrva.com
SUMMARY:FREE Vision Screening @ Far West End Seventh-day Adventist Church
DESCRIPTION:
URL:https://www.medrva.com/event/free-vision-screening-far-west-end-seventh-day-adventist-church
LOCATION:Far West End Seventh-day Adventist Church\, 15600 Pouncey Tract Road\, Rockville\, Virginia\, 23146\, United States
CATEGORIES:Vision Screening
ATTACH;FMTTYPE=image/png:https://cdn.medrva.com/uploads/2025/03/01-Pre-K-Vision-Screening-Library-3.png
ORGANIZER;CN="MedRVA Pre-K Vision Program":MAILTO:baochau.le@medrva.com
END:VEVENT
BEGIN:VEVENT
DTSTART;TZID=America/New_York:20250426T090000
DTEND;TZID=America/New_York:20250426T130000
DTSTAMP:20260421T121940
CREATED:20250306T194422Z
LAST-MODIFIED:20250306T195936Z
UID:6850-1745658000-1745672400@www.medrva.com
SUMMARY:Vision Screening @ Children’s Museum of Richmond (Chesterfield location)
DESCRIPTION:*admission to museum required
URL:https://www.medrva.com/event/free-vision-screening-richmond-flying-squirrel-tails-kids-club-game-4
LOCATION:Children’s Museum of Richmond-Chesterfield\, 6629 Lake Harbour Dr\, Midlothian\, Virginia\, 23112
CATEGORIES:Vision Screening
ATTACH;FMTTYPE=image/jpeg:https://cdn.medrva.com/uploads/2025/03/36051.jpg
END:VEVENT
END:VCALENDAR